BEGIN:VCALENDAR
VERSION:2.0
PRODID:-//Visit Kent - ECPv6.15.20//NONSGML v1.0//EN
CALSCALE:GREGORIAN
METHOD:PUBLISH
X-WR-CALNAME:Visit Kent
X-ORIGINAL-URL:https://visitkent.com
X-WR-CALDESC:Events for Visit Kent
REFRESH-INTERVAL;VALUE=DURATION:PT1H
X-Robots-Tag:noindex
X-PUBLISHED-TTL:PT1H
BEGIN:VTIMEZONE
TZID:America/Los_Angeles
BEGIN:DAYLIGHT
TZOFFSETFROM:-0800
TZOFFSETTO:-0700
TZNAME:PDT
DTSTART:20250309T100000
END:DAYLIGHT
BEGIN:STANDARD
TZOFFSETFROM:-0700
TZOFFSETTO:-0800
TZNAME:PST
DTSTART:20251102T090000
END:STANDARD
BEGIN:DAYLIGHT
TZOFFSETFROM:-0800
TZOFFSETTO:-0700
TZNAME:PDT
DTSTART:20260308T100000
END:DAYLIGHT
BEGIN:STANDARD
TZOFFSETFROM:-0700
TZOFFSETTO:-0800
TZNAME:PST
DTSTART:20261101T090000
END:STANDARD
BEGIN:DAYLIGHT
TZOFFSETFROM:-0800
TZOFFSETTO:-0700
TZNAME:PDT
DTSTART:20270314T100000
END:DAYLIGHT
BEGIN:STANDARD
TZOFFSETFROM:-0700
TZOFFSETTO:-0800
TZNAME:PST
DTSTART:20271107T090000
END:STANDARD
END:VTIMEZONE
BEGIN:VEVENT
DTSTART;VALUE=DATE:20260401
DTEND;VALUE=DATE:20260501
DTSTAMP:20260423T213136
CREATED:20260124T213658Z
LAST-MODIFIED:20260124T214520Z
UID:26174-1775001600-1777593599@visitkent.com
SUMMARY:Kent Spring Scavenger Hunt
DESCRIPTION:Support local businesses and help celebrate the longer days and warmer weather with a scavenger hunt through downtown Kent. Little stuffed bees will be scattered across historic downtown Kent\, and the city needs your help to track them down. Search for the bees\, complete your passport and submit it for a chance to win awesome prizes. The Scavenger Hunt starts on April 1st and will end on April 30th. 
URL:https://visitkent.com/event/kent-spring-scavenger-hunt/
LOCATION:Downtown Kent\, 202 W. Gowe St.\, Kent\, WA\, 98032\, United States
CATEGORIES:Arts & Culture,Family Friendly,Outdoor Recreation,Shopping
ATTACH;FMTTYPE=image/jpeg:https://visitkent.com/wp-content/uploads/2026/01/Untitled-design-1.jpg
END:VEVENT
BEGIN:VEVENT
DTSTART;TZID=America/Los_Angeles:20260425T100000
DTEND;TZID=America/Los_Angeles:20260425T180000
DTSTAMP:20260423T213136
CREATED:20260124T211919Z
LAST-MODIFIED:20260324T224122Z
UID:26169-1777111200-1777140000@visitkent.com
SUMMARY:BEPC Conscious Wellness EXPO + Gem Show
DESCRIPTION:Check out the largest health\, wellness\, spiritual and metaphysical expo in the region. The event includes over 100 booths\, 25+ free talks and two free psychic panels.
URL:https://visitkent.com/event/bepc-expo-gem-show/
LOCATION:Kent Commons\, 525 4th Ave. N.\, Kent\, WA\, 98032\, United States
CATEGORIES:Arts & Culture,Shopping
ATTACH;FMTTYPE=image/jpeg:https://visitkent.com/wp-content/uploads/2026/01/bepc-1.jpg
END:VEVENT
BEGIN:VEVENT
DTSTART;TZID=America/Los_Angeles:20260426T070000
DTEND;TZID=America/Los_Angeles:20260426T150000
DTSTAMP:20260423T213136
CREATED:20260219T181318Z
LAST-MODIFIED:20260312T222510Z
UID:26233-1777186800-1777215600@visitkent.com
SUMMARY:Import Face-Off
DESCRIPTION:Experience the ultimate celebration of automotive culture as Import Face-Off returns to Pacific Raceways for a high-octane day featuring a massive car\, truck and bike show\, alongside quarter-mile drag racing. Fans can expect burnout contests\, low-car limbo\, 2-step competitions\, live DJ sets and more!
URL:https://visitkent.com/event/import-face-off/
LOCATION:Pacific Raceways\, 31001 144th Ave. S.W.\, Kent\, WA\, 98032\, United States
CATEGORIES:Arts & Culture,Family Friendly,Festivals,Sports
ATTACH;FMTTYPE=image/jpeg:https://visitkent.com/wp-content/uploads/2026/01/ImportfaceoffPLATESremoved.jpeg
END:VEVENT
BEGIN:VEVENT
DTSTART;TZID=America/Los_Angeles:20260426T100000
DTEND;TZID=America/Los_Angeles:20260426T180000
DTSTAMP:20260423T213136
CREATED:20260124T212532Z
LAST-MODIFIED:20260324T224146Z
UID:26171-1777197600-1777226400@visitkent.com
SUMMARY:BEPC Conscious Wellness EXPO + Gem Show
DESCRIPTION:Check out the largest health\, wellness\, spiritual and metaphysical expo in the region. The event includes over 100 booths\, 25+ free talks and two free psychic panels.
URL:https://visitkent.com/event/bepc-expo-gem-show-2/
LOCATION:Kent Commons\, 525 4th Ave. N.\, Kent\, WA\, 98032\, United States
CATEGORIES:Arts & Culture,Shopping
ATTACH;FMTTYPE=image/jpeg:https://visitkent.com/wp-content/uploads/2026/01/bepc-1.jpg
END:VEVENT
END:VCALENDAR